BEGIN:VCALENDAR
VERSION:2.0
PRODID:-//Illinois Judicial Council - ECPv6.15.20//NONSGML v1.0//EN
CALSCALE:GREGORIAN
METHOD:PUBLISH
X-WR-CALNAME:Illinois Judicial Council
X-ORIGINAL-URL:https://illinoisjudicialcouncil.org
X-WR-CALDESC:Events for Illinois Judicial Council
REFRESH-INTERVAL;VALUE=DURATION:PT1H
X-Robots-Tag:noindex
X-PUBLISHED-TTL:PT1H
BEGIN:VTIMEZONE
TZID:UTC
BEGIN:STANDARD
TZOFFSETFROM:+0000
TZOFFSETTO:+0000
TZNAME:UTC
DTSTART:20160101T000000
END:STANDARD
END:VTIMEZONE
BEGIN:VEVENT
DTSTART;TZID=UTC:20170111T173000
DTEND;TZID=UTC:20170111T200000
DTSTAMP:20260422T084110
CREATED:20170105T171007Z
LAST-MODIFIED:20170105T171007Z
UID:527-1484155800-1484164800@illinoisjudicialcouncil.org
SUMMARY:South Asian Bar Association of Chicago Installation Reception
DESCRIPTION:South Asian Bar Association of Chicago Installation Reception; Schiff Hardin LLP\, 233 S. Wacker Dr.\, Chicago\, Illinois; more info at www.sabachicago.org.
URL:https://illinoisjudicialcouncil.org/event/south-asian-bar-association-of-chicago-installation-reception/
END:VEVENT
END:VCALENDAR