BEGIN:VCALENDAR
VERSION:2.0
PRODID:-//Illinois Judicial Council - ECPv6.15.20//NONSGML v1.0//EN
CALSCALE:GREGORIAN
METHOD:PUBLISH
X-ORIGINAL-URL:https://illinoisjudicialcouncil.org
X-WR-CALDESC:Events for Illinois Judicial Council
REFRESH-INTERVAL;VALUE=DURATION:PT1H
X-Robots-Tag:noindex
X-PUBLISHED-TTL:PT1H
BEGIN:VTIMEZONE
TZID:UTC
BEGIN:STANDARD
TZOFFSETFROM:+0000
TZOFFSETTO:+0000
TZNAME:UTC
DTSTART:20160101T000000
END:STANDARD
END:VTIMEZONE
BEGIN:VEVENT
DTSTART;TZID=UTC:20170118T120000
DTEND;TZID=UTC:20170118T130000
DTSTAMP:20260420T115137
CREATED:20170105T171356Z
LAST-MODIFIED:20170105T171356Z
UID:530-1484740800-1484744400@illinoisjudicialcouncil.org
SUMMARY:Woman’s Bar Association of Illinois Legally Mom Lunch
DESCRIPTION:Woman’s Bar Association of Illinois Legally Mom Lunch; Navigating CPS; Jones Day\, 77 W. Walker\, Chicago\, Illinois; lunch provided; free to WBAI members; $20.00/non-members\, info & registration at www.wbaillinois.org.
URL:https://illinoisjudicialcouncil.org/event/womans-bar-association-of-illinois-legally-mom-lunch/
END:VEVENT
END:VCALENDAR