BEGIN:VCALENDAR
VERSION:2.0
PRODID:-//Illinois Judicial Council - ECPv6.15.20//NONSGML v1.0//EN
CALSCALE:GREGORIAN
METHOD:PUBLISH
X-WR-CALNAME:Illinois Judicial Council
X-ORIGINAL-URL:https://illinoisjudicialcouncil.org
X-WR-CALDESC:Events for Illinois Judicial Council
REFRESH-INTERVAL;VALUE=DURATION:PT1H
X-Robots-Tag:noindex
X-PUBLISHED-TTL:PT1H
BEGIN:VTIMEZONE
TZID:UTC
BEGIN:STANDARD
TZOFFSETFROM:+0000
TZOFFSETTO:+0000
TZNAME:UTC
DTSTART:20230101T000000
END:STANDARD
END:VTIMEZONE
BEGIN:VEVENT
DTSTART;TZID=UTC:20240912T170000
DTEND;TZID=UTC:20240912T210000
DTSTAMP:20260422T145602
CREATED:20240816T033750Z
LAST-MODIFIED:20250815T081850Z
UID:89021-1726160400-1726174800@illinoisjudicialcouncil.org
SUMMARY:IJC 42nd Annual Installation & Scholarship Ceremony
DESCRIPTION:
URL:https://illinoisjudicialcouncil.org/event/ijc-42nd-annual-installation-scholarship-ceremony/
LOCATION:University Club of Chicago\, 76 E. Monroe St.\, Chicago\, IL\, 60603\, United States
CATEGORIES:Illinois Judicial Council
ATTACH;FMTTYPE=image/jpeg:https://illinoisjudicialcouncil.org/wp-content/uploads/2024/08/IJC-42nd-Annual_Invite-prf2-_1_-2024-08-06-e1723779357545.jpg
END:VEVENT
END:VCALENDAR